BEGIN:VCALENDAR
VERSION:2.0
PRODID:icalendar-ruby
CALSCALE:GREGORIAN
METHOD:PUBLISH
BEGIN:VEVENT
DTSTAMP:20200301T102704Z
UID:http://www.lindikimsing.com.au/property?property_id=387994
DTSTART:20200222T143000
DTEND:20200222T150000
CLASS:PUBLIC
CREATED:20190401T101631
DESCRIPTION: 
LAST-MODIFIED:20200226T131736
LOCATION:26 Garnet Avenue\, LILYFIELD NSW 2040\, Australia
SUMMARY:26 Garnet Avenue\,  Auction
URL:http://www.lindikimsing.com.au/property?property_id=387994
END:VEVENT
END:VCALENDAR
