BEGIN:VCALENDAR
VERSION:2.0
PRODID:icalendar-ruby
CALSCALE:GREGORIAN
METHOD:PUBLISH
BEGIN:VEVENT
DTSTAMP:20200301T102727Z
UID:http://www.lindikimsing.com.au/property?property_id=264519
DTSTART:20180908T080000
DTEND:20180908T083000
CLASS:PUBLIC
CREATED:20180724T124753
DESCRIPTION: 
LAST-MODIFIED:20181116T123752
LOCATION:65 Justin Street\, LILYFIELD NSW 2040\, Australia
SUMMARY:65 Justin Street\,  Auction
URL:http://www.lindikimsing.com.au/property?property_id=264519
END:VEVENT
END:VCALENDAR
