BEGIN:VCALENDAR
VERSION:2.0
PRODID:icalendar-ruby
CALSCALE:GREGORIAN
METHOD:PUBLISH
BEGIN:VEVENT
DTSTAMP:20200301T102741Z
UID:http://www.lindikimsing.com.au/property?property_id=195025
DTSTART:20180224T150000
DTEND:20180224T153000
CLASS:PUBLIC
CREATED:20180118T074159
DESCRIPTION: 
LAST-MODIFIED:20180228T091918
LOCATION:217 Evans Street\, ROZELLE NSW 2039\, Australia
SUMMARY:217 Evans Street\,  Auction
URL:http://www.lindikimsing.com.au/property?property_id=195025
END:VEVENT
END:VCALENDAR
