BEGIN:VCALENDAR
VERSION:2.0
PRODID:icalendar-ruby
CALSCALE:GREGORIAN
METHOD:PUBLISH
BEGIN:VEVENT
DTSTAMP:20200301T102753Z
UID:http://www.lindikimsing.com.au/property?property_id=192599
DTSTART:20170923T160000
DTEND:20170923T163000
CLASS:PUBLIC
CREATED:20171219T141709
DESCRIPTION: 
LAST-MODIFIED:20180222T132406
LOCATION:10 / 12 Marlborough Street\, DRUMMOYNE NSW 2047\, Australia
SUMMARY:10 / 12 Marlborough Street\,  Auction
URL:http://www.lindikimsing.com.au/property?property_id=192599
END:VEVENT
END:VCALENDAR
