BEGIN:VCALENDAR
VERSION:2.0
PRODID:icalendar-ruby
CALSCALE:GREGORIAN
METHOD:PUBLISH
BEGIN:VEVENT
DTSTAMP:20200301T102800Z
UID:http://www.lindikimsing.com.au/property?property_id=192597
DTSTART:20170701T150000
DTEND:20170701T153000
CLASS:PUBLIC
CREATED:20171219T141708
DESCRIPTION: 
LAST-MODIFIED:20180222T114949
LOCATION:2 Lonsdale Street\, LILYFIELD NSW 2040\, Australia
SUMMARY:2 Lonsdale Street\,  Auction
URL:http://www.lindikimsing.com.au/property?property_id=192597
END:VEVENT
END:VCALENDAR
