BEGIN:VCALENDAR
VERSION:2.0
PRODID:icalendar-ruby
CALSCALE:GREGORIAN
METHOD:PUBLISH
BEGIN:VEVENT
DTSTAMP:20200301T102804Z
UID:http://www.lindikimsing.com.au/property?property_id=192596
DTSTART:20170408T160000
DTEND:20170408T163000
CLASS:PUBLIC
CREATED:20171219T141708
DESCRIPTION: 
LAST-MODIFIED:20180223T095020
LOCATION:96 Foster Street\, LEICHHARDT NSW 2040\, Australia
SUMMARY:96 Foster Street\,  Auction
URL:http://www.lindikimsing.com.au/property?property_id=192596
END:VEVENT
END:VCALENDAR
