BEGIN:VCALENDAR
VERSION:2.0
PRODID:icalendar-ruby
CALSCALE:GREGORIAN
METHOD:PUBLISH
BEGIN:VEVENT
DTSTAMP:20200301T102807Z
UID:http://www.lindikimsing.com.au/property?property_id=192595
DTSTART:20161217T150000
DTEND:20161217T153000
CLASS:PUBLIC
CREATED:20171219T141707
DESCRIPTION: 
LAST-MODIFIED:20180223T093353
LOCATION:21 Hartley Street\, ROZELLE NSW 2039\, Australia
SUMMARY:21 Hartley Street\,  Auction
URL:http://www.lindikimsing.com.au/property?property_id=192595
END:VEVENT
END:VCALENDAR
