BEGIN:VCALENDAR
VERSION:2.0
PRODID:icalendar-ruby
CALSCALE:GREGORIAN
METHOD:PUBLISH
BEGIN:VEVENT
DTSTAMP:20200301T102812Z
UID:http://www.lindikimsing.com.au/property?property_id=192594
DTSTART:20161105T150000
DTEND:20161105T153000
CLASS:PUBLIC
CREATED:20171219T141706
DESCRIPTION: 
LAST-MODIFIED:20180223T093131
LOCATION:45 Lawson Street\, BALMAIN NSW 2041\, Australia
SUMMARY:45 Lawson Street\,  Auction
URL:http://www.lindikimsing.com.au/property?property_id=192594
END:VEVENT
END:VCALENDAR
