BEGIN:VCALENDAR
VERSION:2.0
PRODID:icalendar-ruby
CALSCALE:GREGORIAN
METHOD:PUBLISH
BEGIN:VEVENT
DTSTAMP:20200301T102818Z
UID:http://www.lindikimsing.com.au/property?property_id=192593
DTSTART:20161008T153000
DTEND:20161008T160000
CLASS:PUBLIC
CREATED:20171219T131706
DESCRIPTION: 
LAST-MODIFIED:20180227T094244
LOCATION:18 Gordon Street\, ROZELLE NSW 2039\, Australia
SUMMARY:18 Gordon Street\,  Auction
URL:http://www.lindikimsing.com.au/property?property_id=192593
END:VEVENT
END:VCALENDAR
