BEGIN:VCALENDAR
VERSION:2.0
PRODID:icalendar-ruby
CALSCALE:GREGORIAN
METHOD:PUBLISH
BEGIN:VEVENT
DTSTAMP:20200301T102825Z
UID:http://www.lindikimsing.com.au/property?property_id=192592
DTSTART:20161001T120000
DTEND:20161001T123000
CLASS:PUBLIC
CREATED:20171219T141705
DESCRIPTION: 
LAST-MODIFIED:20180223T092917
LOCATION:21 O'Neill Street\, LILYFIELD NSW 2040\, Australia
SUMMARY:21 O'Neill Street\,  Auction
URL:http://www.lindikimsing.com.au/property?property_id=192592
END:VEVENT
END:VCALENDAR
