BEGIN:VCALENDAR
VERSION:2.0
PRODID:icalendar-ruby
CALSCALE:GREGORIAN
METHOD:PUBLISH
BEGIN:VEVENT
DTSTAMP:20200301T102832Z
UID:http://www.lindikimsing.com.au/property?property_id=192591
DTSTART:20160903T090000
DTEND:20160903T093000
CLASS:PUBLIC
CREATED:20171219T131704
DESCRIPTION: 
LAST-MODIFIED:20180223T082525
LOCATION:9 / 128 George Street\, REDFERN NSW 2016\, Australia
SUMMARY:9 / 128 George Street\,  Auction
URL:http://www.lindikimsing.com.au/property?property_id=192591
END:VEVENT
END:VCALENDAR
