BEGIN:VCALENDAR
VERSION:2.0
PRODID:icalendar-ruby
CALSCALE:GREGORIAN
METHOD:PUBLISH
BEGIN:VEVENT
DTSTAMP:20200301T102838Z
UID:http://www.lindikimsing.com.au/property?property_id=192590
DTSTART:20160827T160000
DTEND:20160827T163000
CLASS:PUBLIC
CREATED:20171219T141704
DESCRIPTION: 
LAST-MODIFIED:20180222T170348
LOCATION:2 / 192 Parramatta Road\, STANMORE NSW 2048\, Australia
SUMMARY:2 / 192 Parramatta Road\,  Auction
URL:http://www.lindikimsing.com.au/property?property_id=192590
END:VEVENT
END:VCALENDAR
