BEGIN:VCALENDAR
VERSION:2.0
PRODID:icalendar-ruby
CALSCALE:GREGORIAN
METHOD:PUBLISH
BEGIN:VEVENT
DTSTAMP:20200301T102847Z
UID:http://www.lindikimsing.com.au/property?property_id=192588
DTSTART:20160716T153000
DTEND:20160716T160000
CLASS:PUBLIC
CREATED:20171219T134702
DESCRIPTION: 
LAST-MODIFIED:20180223T084820
LOCATION:69 Justin Street\, LILYFIELD NSW 2040\, Australia
SUMMARY:69 Justin Street\,  Auction
URL:http://www.lindikimsing.com.au/property?property_id=192588
END:VEVENT
END:VCALENDAR
