BEGIN:VCALENDAR
VERSION:2.0
PRODID:icalendar-ruby
CALSCALE:GREGORIAN
METHOD:PUBLISH
BEGIN:VEVENT
DTSTAMP:20200301T102851Z
UID:http://www.lindikimsing.com.au/property?property_id=192587
DTSTART:20160723T140000
DTEND:20160723T143000
CLASS:PUBLIC
CREATED:20171219T111702
DESCRIPTION: 
LAST-MODIFIED:20180227T075350
LOCATION:6 Sutton Street\, BALMAIN NSW 2041\, Australia
SUMMARY:6 Sutton Street\,  Auction
URL:http://www.lindikimsing.com.au/property?property_id=192587
END:VEVENT
END:VCALENDAR
