BEGIN:VCALENDAR
VERSION:2.0
PRODID:icalendar-ruby
CALSCALE:GREGORIAN
METHOD:PUBLISH
BEGIN:VEVENT
DTSTAMP:20200301T102857Z
UID:http://www.lindikimsing.com.au/property?property_id=192585
DTSTART:20160312T150000
DTEND:20160312T153000
CLASS:PUBLIC
CREATED:20171219T131700
DESCRIPTION: 
LAST-MODIFIED:20180222T104703
LOCATION:42 Mullens Street\, BALMAIN NSW 2041\, Australia
SUMMARY:42 Mullens Street\,  Auction
URL:http://www.lindikimsing.com.au/property?property_id=192585
END:VEVENT
END:VCALENDAR
