BEGIN:VCALENDAR
VERSION:2.0
PRODID:icalendar-ruby
CALSCALE:GREGORIAN
METHOD:PUBLISH
BEGIN:VEVENT
DTSTAMP:20200301T102906Z
UID:http://www.lindikimsing.com.au/property?property_id=192583
DTSTART:20150613T140000
DTEND:20150613T143000
CLASS:PUBLIC
CREATED:20171219T111659
DESCRIPTION: 
LAST-MODIFIED:20180222T135311
LOCATION:131 Evans Street\, ROZELLE NSW 2039\, Australia
SUMMARY:131 Evans Street\,  Auction
URL:http://www.lindikimsing.com.au/property?property_id=192583
END:VEVENT
END:VCALENDAR
