BEGIN:VCALENDAR
VERSION:2.0
PRODID:icalendar-ruby
CALSCALE:GREGORIAN
METHOD:PUBLISH
BEGIN:VEVENT
DTSTAMP:20200301T102912Z
UID:http://www.lindikimsing.com.au/property?property_id=192582
DTSTART:20150523T090000
DTEND:20150523T093000
CLASS:PUBLIC
CREATED:20171219T141659
DESCRIPTION: 
LAST-MODIFIED:20180222T164236
LOCATION:39 Cocupara Avenue\, LINDFIELD NSW 2070\, Australia
SUMMARY:39 Cocupara Avenue\,  Auction
URL:http://www.lindikimsing.com.au/property?property_id=192582
END:VEVENT
END:VCALENDAR
