BEGIN:VCALENDAR
VERSION:2.0
PRODID:icalendar-ruby
CALSCALE:GREGORIAN
METHOD:PUBLISH
BEGIN:VEVENT
DTSTAMP:20200301T102919Z
UID:http://www.lindikimsing.com.au/property?property_id=192581
DTSTART:20150530T143000
DTEND:20150530T150000
CLASS:PUBLIC
CREATED:20171219T111658
DESCRIPTION: 
LAST-MODIFIED:20180222T114805
LOCATION:9 / 2A Walton Crescent\, ABBOTSFORD NSW 2046\, Australia
SUMMARY:9 / 2A Walton Crescent\,  Auction
URL:http://www.lindikimsing.com.au/property?property_id=192581
END:VEVENT
END:VCALENDAR
