BEGIN:VCALENDAR
VERSION:2.0
PRODID:icalendar-ruby
CALSCALE:GREGORIAN
METHOD:PUBLISH
BEGIN:VEVENT
DTSTAMP:20200301T102922Z
UID:http://www.lindikimsing.com.au/property?property_id=192580
DTSTART:20150314T130000
DTEND:20150314T133000
CLASS:PUBLIC
CREATED:20171219T111657
DESCRIPTION: 
LAST-MODIFIED:20180222T114522
LOCATION:48 Beattie Street\, BALMAIN NSW 2041\, Australia
SUMMARY:48 Beattie Street\,  Auction
URL:http://www.lindikimsing.com.au/property?property_id=192580
END:VEVENT
END:VCALENDAR
