BEGIN:VCALENDAR
VERSION:2.0
PRODID:icalendar-ruby
CALSCALE:GREGORIAN
METHOD:PUBLISH
BEGIN:VEVENT
DTSTAMP:20200301T102932Z
UID:http://www.lindikimsing.com.au/property?property_id=192578
DTSTART:20150207T133000
DTEND:20150207T140000
CLASS:PUBLIC
CREATED:20171219T141656
DESCRIPTION: 
LAST-MODIFIED:20180227T093520
LOCATION:2B Morrice Street\, LANE COVE NSW 2066\, Australia
SUMMARY:2B Morrice Street\,  Auction
URL:http://www.lindikimsing.com.au/property?property_id=192578
END:VEVENT
END:VCALENDAR
