BEGIN:VCALENDAR
VERSION:2.0
PRODID:icalendar-ruby
CALSCALE:GREGORIAN
METHOD:PUBLISH
BEGIN:VEVENT
DTSTAMP:20200301T102940Z
UID:http://www.lindikimsing.com.au/property?property_id=192576
DTSTART:20141218T184500
DTEND:20141218T191500
CLASS:PUBLIC
CREATED:20171219T141654
DESCRIPTION: 
LAST-MODIFIED:20180227T102051
LOCATION:10 / 12 Marlborough Street\, DRUMMOYNE NSW 2047\, Australia
SUMMARY:10 / 12 Marlborough Street\,  Auction
URL:http://www.lindikimsing.com.au/property?property_id=192576
END:VEVENT
END:VCALENDAR
