BEGIN:VCALENDAR
VERSION:2.0
PRODID:icalendar-ruby
CALSCALE:GREGORIAN
METHOD:PUBLISH
BEGIN:VEVENT
DTSTAMP:20200301T102949Z
UID:http://www.lindikimsing.com.au/property?property_id=192575
DTSTART:20141122T070000
DTEND:20141122T073000
CLASS:PUBLIC
CREATED:20171219T111654
DESCRIPTION: 
LAST-MODIFIED:20180222T112621
LOCATION:5 / 192 Parramatta \, STANMORE NSW 2048\, Australia
SUMMARY:5 / 192 Parramatta \,  Auction
URL:http://www.lindikimsing.com.au/property?property_id=192575
END:VEVENT
END:VCALENDAR
