BEGIN:VCALENDAR
VERSION:2.0
PRODID:icalendar-ruby
CALSCALE:GREGORIAN
METHOD:PUBLISH
BEGIN:VEVENT
DTSTAMP:20200301T102953Z
UID:http://www.lindikimsing.com.au/property?property_id=192574
DTSTART:20141102T120000
DTEND:20141102T123000
CLASS:PUBLIC
CREATED:20171219T131653
DESCRIPTION: 
LAST-MODIFIED:20180222T131612
LOCATION:1 / 4-6 Cowper Street\, RANDWICK NSW 2031\, Australia
SUMMARY:1 / 4-6 Cowper Street\,  Auction
URL:http://www.lindikimsing.com.au/property?property_id=192574
END:VEVENT
END:VCALENDAR
