BEGIN:VCALENDAR
VERSION:2.0
PRODID:icalendar-ruby
CALSCALE:GREGORIAN
METHOD:PUBLISH
BEGIN:VEVENT
DTSTAMP:20200301T102957Z
UID:http://www.lindikimsing.com.au/property?property_id=192573
DTSTART:20141130T100000
DTEND:20141130T103000
CLASS:PUBLIC
CREATED:20171219T131652
DESCRIPTION: 
LAST-MODIFIED:20180222T132010
LOCATION:9 Hoffmans Lane\, BALMAIN NSW 2041\, Australia
SUMMARY:9 Hoffmans Lane\,  Auction
URL:http://www.lindikimsing.com.au/property?property_id=192573
END:VEVENT
END:VCALENDAR
