BEGIN:VCALENDAR
VERSION:2.0
PRODID:icalendar-ruby
CALSCALE:GREGORIAN
METHOD:PUBLISH
BEGIN:VEVENT
DTSTAMP:20200301T103012Z
UID:http://www.lindikimsing.com.au/property?property_id=192569
DTSTART:20140906T150000
DTEND:20140906T153000
CLASS:PUBLIC
CREATED:20171219T141650
DESCRIPTION: 
LAST-MODIFIED:20180227T093003
LOCATION:4 Coulon Street\, ROZELLE NSW 2039\, Australia
SUMMARY:4 Coulon Street\,  Auction
URL:http://www.lindikimsing.com.au/property?property_id=192569
END:VEVENT
END:VCALENDAR
